BEGIN:VCALENDAR
VERSION:2.0
PRODID:-//RákosyGlass - ECPv6.15.18//NONSGML v1.0//EN
CALSCALE:GREGORIAN
METHOD:PUBLISH
X-WR-CALNAME:RákosyGlass
X-ORIGINAL-URL:https://rakosyuveg.hu
X-WR-CALDESC:Események RákosyGlass
REFRESH-INTERVAL;VALUE=DURATION:PT1H
X-Robots-Tag:noindex
X-PUBLISHED-TTL:PT1H
BEGIN:VTIMEZONE
TZID:Europe/Budapest
BEGIN:DAYLIGHT
TZOFFSETFROM:+0100
TZOFFSETTO:+0200
TZNAME:CEST
DTSTART:20230326T010000
END:DAYLIGHT
BEGIN:STANDARD
TZOFFSETFROM:+0200
TZOFFSETTO:+0100
TZNAME:CET
DTSTART:20231029T010000
END:STANDARD
BEGIN:DAYLIGHT
TZOFFSETFROM:+0100
TZOFFSETTO:+0200
TZNAME:CEST
DTSTART:20240331T010000
END:DAYLIGHT
BEGIN:STANDARD
TZOFFSETFROM:+0200
TZOFFSETTO:+0100
TZNAME:CET
DTSTART:20241027T010000
END:STANDARD
BEGIN:DAYLIGHT
TZOFFSETFROM:+0100
TZOFFSETTO:+0200
TZNAME:CEST
DTSTART:20250330T010000
END:DAYLIGHT
BEGIN:STANDARD
TZOFFSETFROM:+0200
TZOFFSETTO:+0100
TZNAME:CET
DTSTART:20251026T010000
END:STANDARD
END:VTIMEZONE
BEGIN:VEVENT
DTSTART;TZID=Europe/Budapest:20240522T100000
DTEND;TZID=Europe/Budapest:20240522T140000
DTSTAMP:20260420T085059
CREATED:20240617T170603Z
LAST-MODIFIED:20241114T144005Z
UID:10000009-1716372000-1716386400@rakosyuveg.hu
SUMMARY:LOSZ Paletta
DESCRIPTION:Idén a Rákosy Glass is részt vesz a LOSZ Palettán. \nA Lakberendezők Országos Szövetsége (LOSZ) idén is megrendezi LOSZ Paletta nevet viselő rendezvényét\, ahol számos kiváló cég között a Rákosy Glass is képviseltetni fogja magát. Találkozzunk a Rákosy Glass asztalánál! \nA rendezvény programja: \n\n9:40 – 10:00 – érkezés\, regisztráció\n10:00 – 11:00 – céges bemutatkozók\n11:00 – 12:00 – a tervezők számára a cégek standjainak megtekintése\, kapcsolat építés\n12:00 – 12:45 – kerekasztal beszélgetés a témában olyan lakberendezőkkel\, építészekkel\, akik külföldi munkáik révén szélesebb rálátással rendelkeznek a szakmánkra\n12:45 – 14:00 – a tervezők számára a cégek standjainak megtekintése\, kapcsolatépítés
URL:https://rakosyuveg.hu/esemeny/losz-paletta/
LOCATION:MaxCity Rendezvényterem II. emelet
CATEGORIES:Külső esemény
ATTACH;FMTTYPE=image/jpeg:https://rakosyuveg.hu/wp-content/uploads/2024/06/losz-paletta-kiemelt.jpg
END:VEVENT
END:VCALENDAR